Workbook

Sheet Rekapitulace stavby
A1: Export VZ | D1: List obsahuje: | K1: 1) Rekapitulace stavby | W1: 2) Rekapitulace objektů stavby a soupisů prací | BA1: 3.0 | BB1: ZAMOK | BT1: False | BU1: False | BV1: {7D584258-E177-439F-B4CA-EA5D9E603D57}
BS2: 0,01 | BT2: 21
BS3: 0,01 | BT3: 15
D4: REKAPITULACE STAVBY | AS4: v --- níže se nacházejí doplnkové a pomocné údaje k sestavám --- v | BE4: Návod na vyplnění | BS4: 0,001
D5: Kód: | K5: 26_2016K | BE5: Měnit lze pouze buňky se žlutým podbarvením! 1) v Rekapitulaci stavby vyplňte údaje o Uchazeči (přenesou se do ostatních sestav i v jiných listech) 2) na vybraných listech vyplňte v sestavě Soupis prací ceny u položek Podrobnosti k vyplnění naleznete na poslední záložce s Pokyny pro vyplnění | BS5: 0,01
D6: Stavba: | K6: OPRAVA PROPUSTKU | BS6: 0,1
D7: KSO: | AK7: CC-CZ: | BS7: 1
D8: Místo: | K8: ve Žďáru u Staré Paky | AK8: Datum: | AN8: 07.01.2016 | BS8: 10
BS9: 100
D10: Zadavatel: | AK10: IČ: | BS10: 0,1
E11: OBEC LEVÍNSKÁ OLEŠNICE, Levínská Olešnice 94 | AK11: DIČ: | BS11: 0,1
BS12: 0,1
D13: Uchazeč: | AK13: IČ: | AN13: Vyplň údaj | BS13: 0,1
E14: Vyplň údaj | AK14: DIČ: | AN14: Vyplň údaj | BS14: 0,1
BS15: False
D16: Projektant: | AK16: IČ: | AN16: 867 25 521 | BS16: False
E17: Ing. Jan KORDA, ČKAIT 0501076 | AK17: DIČ: | BS17: True
BS18: 0,01
D19: Poznámka: | BS19: 0,01
BS20: False
D23: Cena bez DPH | AK23: =ROUND($AG$51,2) -> 0
L25: Sazba daně | W25: Základ daně | AK25: Výše daně
D26: DPH | F26: základní | L26: 0.21 | W26: =ROUND($AZ$51,2) -> 0 | AK26: =ROUND($AV$51,2) -> 0
F27: snížená | L27: 0.15 | W27: =ROUND($BA$51,2) -> 0 | AK27: =ROUND($AW$51,2) -> 0
F28: zákl. přenesená | L28: 0.21 | W28: =ROUND($BB$51,2) -> 0 | AK28: 0
F29: sníž. přenesená | L29: 0.15 | W29: =ROUND($BC$51,2) -> 0 | AK29: 0
F30: nulová | L30: 0 | W30: =ROUND($BD$51,2) -> 0 | AK30: 0
D32: Cena s DPH | T32: v | X32: CZK | AK32: =SUM($AK$23:$AK$30) -> 0
C39: REKAPITULACE OBJEKTŮ STAVBY A SOUPISŮ PRACÍ
C41: Kód: | L41: =$K$5 -> 26_2016K
C42: Stavba: | L42: =$K$6 -> OPRAVA PROPUSTKU
C44: Místo: | L44: =IF($K$8="","",$K$8) -> ve Žďáru u Staré Paky | AI44: Datum: | AM44: =IF($AN$8="","",$AN$8) -> 07.01.2016
C46: Zadavatel: | L46: =IF($E$11="","",$E$11) -> OBEC LEVÍNSKÁ OLEŠNICE, Levínská Olešnice 94 | AI46: Projektant: | AM46: =IF($E$17="","",$E$17) -> Ing. Jan KORDA, ČKAIT 0501076 | AS46: Informatívní údaje z listů zakázek
C47: Uchazeč: | L47: =IF($E$14="Vyplň údaj","",$E$14)
C49: Kód | I49: Objekt, Soupis prací | AG49: Cena bez DPH [CZK] | AN49: Cena s DPH [CZK] | AQ49: Typ | AS49: z toho Ostat. náklady [CZK] | AT49: DPH [CZK] | AU49: Normohodiny [h] | AV49: DPH základní [CZK] | AW49: DPH snížená [CZK] | AX49: DPH základní přenesená [CZK] | AY49: DPH snížená přenesená [CZK] | AZ49: Základna DPH základní | BA49: Základna DPH snížená | BB49: Základna DPH zákl. přenesená | BC49: Základna DPH sníž. přenesená | BD49: Základna DPH nulová
C51: Náklady stavby celkem | AG51: =ROUND($AG$52,2) -> 0 | AN51: =SUM($AG$51,$AT$51) -> 0 | AS51: =ROUND($AS$52,2) -> 0 | AT51: =ROUND(SUM($AV$51:$AW$51),2) -> 0 | AU51: =ROUND($AU$52,5) -> 0 | AV51: =ROUND($AZ$51*$L$26,2) -> 0 | AW51: =ROUND($BA$51*$L$27,2) -> 0 | AX51: =ROUND($BB$51*$L$26,2) -> 0 | AY51: =ROUND($BC$51*$L$27,2) -> 0 | AZ51: =ROUND($AZ$52,2) -> 0 | BA51: =ROUND($BA$52,2) -> 0 | BB51: =ROUND($BB$52,2) -> 0 | BC51: =ROUND($BC$52,2) -> 0 | BD51: =ROUND($BD$52,2) -> 0 | BS51: D | BT51: 0 | BV51: IMPORT | BW51: {7D584258-E177-439F-B4CA-EA5D9E603D57} | BX51: {00000000-0000-0000-0000-000000000000}
A52: / | D52: 26_2016K | J52: OPRAVA PROPUSTKU | AG52: ='26_2016K - OPRAVA PROPUSTKU'!$J$25 -> 0 | AN52: =SUM($AG$52,$AT$52) -> 0 | AQ52: STA | AS52: 0 | AT52: =ROUND(SUM($AV$52:$AW$52),2) -> 0 | AU52: ='26_2016K - OPRAVA PROPUSTKU'!$P$82 -> 0 | AV52: ='26_2016K - OPRAVA PROPUSTKU'!$J$28 -> 0 | AW52: ='26_2016K - OPRAVA PROPUSTKU'!$J$29 -> 0 | AX52: ='26_2016K - OPRAVA PROPUSTKU'!$J$30 -> 0 | AY52: ='26_2016K - OPRAVA PROPUSTKU'!$J$31 -> 0 | AZ52: ='26_2016K - OPRAVA PROPUSTKU'!$F$28 -> 0 | BA52: ='26_2016K - OPRAVA PROPUSTKU'!$F$29 -> 0 | BB52: ='26_2016K - OPRAVA PROPUSTKU'!$F$30 -> 0 | BC52: ='26_2016K - OPRAVA PROPUSTKU'!$F$31 -> 0 | BD52: ='26_2016K - OPRAVA PROPUSTKU'!$F$32 -> 0 | BT52: 1 | BU52: ###NOINSERT### | BV52: IMPORT | BW52: {7D584258-E177-439F-B4CA-EA5D9E603D57} | BX52: {00000000-0000-0000-0000-000000000000}

Sheet 26_2016K - OPRAVA PROPUSTKU
D1: List obsahuje: | F1: 1) Krycí list soupisu | G1: 2) Rekapitulace | J1: 3) Soupis prací | K1: Zpět na list: | L1: Rekapitulace stavby
AT2: {7D584258-E177-439F-B4CA-EA5D9E603D57}
AT3: 2
D4: KRYCÍ LIST SOUPISU | M4: v --- níže se nacházejí doplnkové a pomocné údaje k sestavám --- v | AT4: False
D6: Stavba:
E7: OPRAVA PROPUSTKU
D9: KSO: | I9: CC-CZ:
D10: Místo: | F10: ve Žďáru u Staré Paky | I10: Datum: | J10: ='Rekapitulace stavby'!$AN$8 -> 07.01.2016
D12: Zadavatel: | I12: IČ:
E13: OBEC LEVÍNSKÁ OLEŠNICE, Levínská Olešnice 94 | I13: DIČ:
D15: Uchazeč: | I15: IČ: | J15: =IF('Rekapitulace stavby'!$AN$13="Vyplň údaj","",IF('Rekapitulace stavby'!$AN$13="","",'Rekapitulace stavby'!$AN$13))
E16: =IF('Rekapitulace stavby'!$E$14="Vyplň údaj","",IF('Rekapitulace stavby'!$E$14="","",'Rekapitulace stavby'!$E$14)) | I16: DIČ: | J16: =IF('Rekapitulace stavby'!$AN$14="Vyplň údaj","",IF('Rekapitulace stavby'!$AN$14="","",'Rekapitulace stavby'!$AN$14))
D18: Projektant: | I18: IČ: | J18: 867 25 521
E19: Ing. Jan KORDA, ČKAIT 0501076 | I19: DIČ:
D21: Poznámka:
D25: Cena bez DPH | J25: =ROUND($J$82,2) -> 0
F27: Základ daně | I27: Sazba daně | J27: Výše daně
D28: DPH | E28: základní | F28: =ROUND(SUM($BE$82:$BE$159),2) -> 0 | I28: 0.21 | J28: =ROUND(ROUND((SUM($BE$82:$BE$159)),2)*$I$28,2) -> 0
E29: snížená | F29: =ROUND(SUM($BF$82:$BF$159),2) -> 0 | I29: 0.15 | J29: =ROUND(ROUND((SUM($BF$82:$BF$159)),2)*$I$29,2) -> 0
E30: zákl. přenesená | F30: =ROUND(SUM($BG$82:$BG$159),2) -> 0 | I30: 0.21 | J30: 0
E31: sníž. přenesená | F31: =ROUND(SUM($BH$82:$BH$159),2) -> 0 | I31: 0.15 | J31: 0
E32: nulová | F32: =ROUND(SUM($BI$82:$BI$159),2) -> 0 | I32: 0 | J32: 0
D34: Cena s DPH | G34: v | H34: CZK | J34: =SUM($J$25:$J$32) -> 0
C40: REKAPITULACE ČLENĚNÍ SOUPISU PRACÍ
C42: Stavba:
E43: =$E$7 -> OPRAVA PROPUSTKU
C45: Místo: | F45: =$F$10 -> ve Žďáru u Staré Paky | I45: Datum: | J45: =IF($J$10="","",$J$10) -> 07.01.2016
C47: Zadavatel: | F47: =$E$13 -> OBEC LEVÍNSKÁ OLEŠNICE, Levínská Olešnice 94 | I47: Projektant: | J47: =$E$19 -> Ing. Jan KORDA, ČKAIT 0501076
C48: Uchazeč: | F48: =IF($E$16="","",$E$16)
C50: Kód dílu - Popis | J50: Cena celkem [CZK]
C52: Náklady soupisu celkem | J52: =$J$82 -> 0 | AU52: -1
D53: HSV - Práce a dodávky HSV | J53: =$J$83 -> 0
D54: 1 - Zemní práce | J54: =$J$84 -> 0
D55: 2 - Zakládání | J55: =$J$90 -> 0
D56: 3 - Svislé a kompletní konstrukce | J56: =$J$109 -> 0
D57: 4 - Vodorovné konstrukce | J57: =$J$114 -> 0
D58: 5 - Komunikace pozemní | J58: =$J$118 -> 0
D59: 9 - Ostatní konstrukce a práce, bourání | J59: =$J$127 -> 0
D60: 997 - Přesun sutě | J60: =$J$140 -> 0
D61: 998 - Přesun hmot | J61: =$J$150 -> 0
D62: OST - Ostatní | J62: =$J$153 -> 0
D63: VRN - Vedlejší rozpočtové náklady | J63: =$J$156 -> 0
D64: VRN6 - Územní vlivy | J64: =$J$157 -> 0
C71: SOUPIS PRACÍ
C73: Stavba:
E74: =$E$7 -> OPRAVA PROPUSTKU
C76: Místo: | F76: =$F$10 -> ve Žďáru u Staré Paky | I76: Datum: | J76: =IF($J$10="","",$J$10) -> 07.01.2016
C78: Zadavatel: | F78: =$E$13 -> OBEC LEVÍNSKÁ OLEŠNICE, Levínská Olešnice 94 | I78: Projektant: | J78: =$E$19 -> Ing. Jan KORDA, ČKAIT 0501076
C79: Uchazeč: | F79: =IF($E$16="","",$E$16)
C81: PČ | D81: Typ | E81: Kód | F81: Popis | G81: MJ | H81: Množství | I81: J.cena [CZK] | J81: Cena celkem [CZK] | K81: Cenová soustava | M81: Poznámka | N81: DPH | O81: J. Nh [h] | P81: Nh celkem [h] | Q81: J. hmotnost [t] | R81: Hmotnost celkem [t] | S81: J. suť [t] | T81: Suť Celkem [t]
C82: Náklady soupisu celkem | J82: =$BK$82 -> 0 | P82: =$P$83+$P$156 -> 0 | R82: =$R$83+$R$156 -> 18.933327 | T82: =$T$83+$T$156 -> 3.85 | AT82: D | AU82: -1 | BK82: =$BK$83+$BK$156 -> 0
D83: D | E83: HSV | F83: Práce a dodávky HSV | J83: =$BK$83 -> 0 | P83: =$P$84+$P$90+$P$109+$P$114+$P$118+$P$127+$P$140+$P$150+$P$153 -> 0 | R83: =$R$84+$R$90+$R$109+$R$114+$R$118+$R$127+$R$140+$R$150+$R$153 -> 18.933327 | T83: =$T$84+$T$90+$T$109+$T$114+$T$118+$T$127+$T$140+$T$150+$T$153 -> 3.85 | AR83: 1 | AT83: D | AU83: 0 | AY83: ROZPOCET | BK83: =$BK$84+$BK$90+$BK$109+$BK$114+$BK$118+$BK$127+$BK$140+$BK$150+$BK$153 -> 0
D84: D | E84: 1 | F84: Zemní práce | J84: =$BK$84 -> 0 | P84: =SUM($P$85:$P$89) -> 0 | R84: =SUM($R$85:$R$89) -> 0.00032 | T84: =SUM($T$85:$T$89) -> 2.026 | AR84: 1 | AT84: D | AU84: 1 | AY84: ROZPOCET | BK84: =SUM($BK$85:$BK$89) -> 0
C85: 1 | D85: K | E85: 113107131 | F85: Odstranění podkladu pl do 50 m2 z betonu prostého tl 150 mm | G85: m2 | H85: 4.56 | J85: =ROUND($I$85*$H$85,2) -> 0 | K85: CS ÚRS 2015 02 | N85: základní | P85: =$O$85*$H$85 -> 0 | Q85: 0 | R85: =$Q$85*$H$85 -> 0 | S85: 0.225 | T85: =$S$85*$H$85 -> 1.026 | AR85: 4 | AT85: K | AU85: 2 | AY85: ROZPOCET | BE85: =IF($N$85="základní",$J$85,0) -> 0 | BF85: =IF($N$85="snížená",$J$85,0) -> 0 | BG85: =IF($N$85="zákl. přenesená",$J$85,0) -> 0 | BH85: =IF($N$85="sníž. přenesená",$J$85,0) -> 0 | BI85: =IF($N$85="nulová",$J$85,0) -> 0 | BJ85: 1 | BK85: =ROUND($I$85*$H$85,2) -> 0 | BL85: 4 | BM85: -1547497889
D86: PP | F86: Odstranění podkladů nebo krytů s přemístěním hmot na skládku na vzdálenost do 3 m nebo s naložením na dopravní prostředek v ploše jednotlivě do 50 m2 z betonu prostého, o tl. vrstvy přes 100 do 150 mm | AT86: PP | AU86: 2
D87: VV | F87: 1,2*3,8 | H87: 4.56 | AT87: VV | AU87: 2 | AV87: 2 | AW87: -1 | AX87: 1 | AY87: ROZPOCET
C88: 2 | D88: K | E88: 152922323 | F88: Odstranění pažení z pražců hornina mokrá | G88: m3 | H88: 1 | J88: =ROUND($I$88*$H$88,2) -> 0 | K88: CS ÚRS 2015 02 | N88: základní | P88: =$O$88*$H$88 -> 0 | Q88: 0.00032 | R88: =$Q$88*$H$88 -> 0.00032 | S88: 1 | T88: =$S$88*$H$88 -> 1 | AR88: 4 | AT88: K | AU88: 2 | AY88: ROZPOCET | BE88: =IF($N$88="základní",$J$88,0) -> 0 | BF88: =IF($N$88="snížená",$J$88,0) -> 0 | BG88: =IF($N$88="zákl. přenesená",$J$88,0) -> 0 | BH88: =IF($N$88="sníž. přenesená",$J$88,0) -> 0 | BI88: =IF($N$88="nulová",$J$88,0) -> 0 | BJ88: 1 | BK88: =ROUND($I$88*$H$88,2) -> 0 | BL88: 4 | BM88: 662793866
D89: PP | F89: Zajišťovací práce v tunelech při ražení v hornině mokré odstranění pažení za skružemi z pražců | AT89: PP | AU89: 2
D90: D | E90: 2 | F90: Zakládání | J90: =$BK$90 -> 0 | P90: =SUM($P$91:$P$108) -> 0 | R90: =SUM($R$91:$R$108) -> 4.6210001 | T90: =SUM($T$91:$T$108) -> 0 | AR90: 1 | AT90: D | AU90: 1 | AY90: ROZPOCET | BK90: =SUM($BK$91:$BK$108) -> 0
C91: 3 | D91: K | E91: 273313611 | F91: Základové desky z betonu tř. C 16/20 | G91: m3 | H91: 0.5 | J91: =ROUND($I$91*$H$91,2) -> 0 | K91: CS ÚRS 2015 02 | N91: základní | P91: =$O$91*$H$91 -> 0 | Q91: 2.25634 | R91: =$Q$91*$H$91 -> 1.12817 | S91: 0 | T91: =$S$91*$H$91 -> 0 | AR91: 4 | AT91: K | AU91: 2 | AY91: ROZPOCET | BE91: =IF($N$91="základní",$J$91,0) -> 0 | BF91: =IF($N$91="snížená",$J$91,0) -> 0 | BG91: =IF($N$91="zákl. přenesená",$J$91,0) -> 0 | BH91: =IF($N$91="sníž. přenesená",$J$91,0) -> 0 | BI91: =IF($N$91="nulová",$J$91,0) -> 0 | BJ91: 1 | BK91: =ROUND($I$91*$H$91,2) -> 0 | BL91: 4 | BM91: -26804030
D92: PP | F92: Základy z betonu prostého desky z betonu kamenem neprokládaného tř. C 16/20 | AT92: PP | AU92: 2
D93: VV | F93: 0,1*1*5 | H93: 0.5 | AT93: VV | AU93: 2 | AV93: 2 | AW93: -1 | AX93: 1 | AY93: ROZPOCET
C94: 4 | D94: K | E94: 273321511 | F94: Základové desky ze ŽB tř. C 25/30 | G94: m3 | H94: 0.468 | J94: =ROUND($I$94*$H$94,2) -> 0 | K94: CS ÚRS 2015 02 | N94: základní | P94: =$O$94*$H$94 -> 0 | Q94: 2.45329 | R94: =$Q$94*$H$94 -> 1.1481397 | S94: 0 | T94: =$S$94*$H$94 -> 0 | AR94: 4 | AT94: K | AU94: 2 | AY94: ROZPOCET | BE94: =IF($N$94="základní",$J$94,0) -> 0 | BF94: =IF($N$94="snížená",$J$94,0) -> 0 | BG94: =IF($N$94="zákl. přenesená",$J$94,0) -> 0 | BH94: =IF($N$94="sníž. přenesená",$J$94,0) -> 0 | BI94: =IF($N$94="nulová",$J$94,0) -> 0 | BJ94: 1 | BK94: =ROUND($I$94*$H$94,2) -> 0 | BL94: 4 | BM94: -1984309621
D95: PP | F95: Základy z betonu železového (bez výztuže) desky z betonu bez zvláštních nároků na vliv prostředí (X0, XC) tř. C 25/30 | AT95: PP | AU95: 2
D96: VV | F96: 0,15*1,2*2,6 | H96: 0.468 | AT96: VV | AU96: 2 | AV96: 2 | AW96: -1 | AX96: 1 | AY96: ROZPOCET
C97: 5 | D97: K | E97: 273361821 | F97: Výztuž základových desek betonářskou ocelí 10 505 (R) | G97: t | H97: 0.07 | J97: =ROUND($I$97*$H$97,2) -> 0 | K97: CS ÚRS 2015 02 | N97: základní | P97: =$O$97*$H$97 -> 0 | Q97: 1.06017 | R97: =$Q$97*$H$97 -> 0.0742119 | S97: 0 | T97: =$S$97*$H$97 -> 0 | AR97: 4 | AT97: K | AU97: 2 | AY97: ROZPOCET | BE97: =IF($N$97="základní",$J$97,0) -> 0 | BF97: =IF($N$97="snížená",$J$97,0) -> 0 | BG97: =IF($N$97="zákl. přenesená",$J$97,0) -> 0 | BH97: =IF($N$97="sníž. přenesená",$J$97,0) -> 0 | BI97: =IF($N$97="nulová",$J$97,0) -> 0 | BJ97: 1 | BK97: =ROUND($I$97*$H$97,2) -> 0 | BL97: 4 | BM97: 793417439
D98: PP | F98: Výztuž základů desek z betonářské oceli 10 505 (R) nebo BSt 500 | AT98: PP | AU98: 2
D99: VV | F99: 0,468*0,15 | H99: 0.07 | AT99: VV | AU99: 2 | AV99: 2 | AW99: -1 | AX99: 1 | AY99: ROZPOCET
C100: 6 | D100: K | E100: 274313811 | F100: Základové pásy z betonu tř. C 25/30 | G100: m3 | H100: 0.09 | J100: =ROUND($I$100*$H$100,2) -> 0 | K100: CS ÚRS 2015 02 | N100: základní | P100: =$O$100*$H$100 -> 0 | Q100: 2.45329 | R100: =$Q$100*$H$100 -> 0.2207961 | S100: 0 | T100: =$S$100*$H$100 -> 0 | AR100: 4 | AT100: K | AU100: 2 | AY100: ROZPOCET | BE100: =IF($N$100="základní",$J$100,0) -> 0 | BF100: =IF($N$100="snížená",$J$100,0) -> 0 | BG100: =IF($N$100="zákl. přenesená",$J$100,0) -> 0 | BH100: =IF($N$100="sníž. přenesená",$J$100,0) -> 0 | BI100: =IF($N$100="nulová",$J$100,0) -> 0 | BJ100: 1 | BK100: =ROUND($I$100*$H$100,2) -> 0 | BL100: 4 | BM100: -2040878546
D101: PP | F101: Základy z betonu prostého pasy betonu kamenem neprokládaného tř. C 25/30 | AT101: PP | AU101: 2
D102: VV | F102: 0,3*0,6*0,5 | H102: 0.09 | AT102: VV | AU102: 2 | AV102: 2 | AW102: -1 | AX102: 1 | AY102: ROZPOCET
C103: 7 | D103: K | E103: 279113134 | F103: Základová zeď tl do 300 mm z tvárnic ztraceného bednění včetně výplně z betonu tř. C 16/20 | G103: m2 | H103: 2.99 | J103: =ROUND($I$103*$H$103,2) -> 0 | K103: CS ÚRS 2015 02 | N103: základní | P103: =$O$103*$H$103 -> 0 | Q103: 0.67489 | R103: =$Q$103*$H$103 -> 2.0179211 | S103: 0 | T103: =$S$103*$H$103 -> 0 | AR103: 4 | AT103: K | AU103: 2 | AY103: ROZPOCET | BE103: =IF($N$103="základní",$J$103,0) -> 0 | BF103: =IF($N$103="snížená",$J$103,0) -> 0 | BG103: =IF($N$103="zákl. přenesená",$J$103,0) -> 0 | BH103: =IF($N$103="sníž. přenesená",$J$103,0) -> 0 | BI103: =IF($N$103="nulová",$J$103,0) -> 0 | BJ103: 1 | BK103: =ROUND($I$103*$H$103,2) -> 0 | BL103: 4 | BM103: 89568557
D104: PP | F104: Základové zdi z tvárnic ztraceného bednění včetně výplně z betonu bez zvláštních nároků na vliv prostředí (X0, XC) třídy C 16/20, tloušťky zdiva přes 250 do 300 mm | AT104: PP | AU104: 2
D105: VV | F105: 1,15*2,6 | H105: 2.99 | AT105: VV | AU105: 2 | AV105: 2 | AW105: -1 | AX105: 1 | AY105: ROZPOCET
C106: 8 | D106: K | E106: 279361821 | F106: Výztuž základových zdí nosných betonářskou ocelí 10 505 | G106: t | H106: 0.03 | J106: =ROUND($I$106*$H$106,2) -> 0 | K106: CS ÚRS 2015 02 | N106: základní | P106: =$O$106*$H$106 -> 0 | Q106: 1.05871 | R106: =$Q$106*$H$106 -> 0.0317613 | S106: 0 | T106: =$S$106*$H$106 -> 0 | AR106: 4 | AT106: K | AU106: 2 | AY106: ROZPOCET | BE106: =IF($N$106="základní",$J$106,0) -> 0 | BF106: =IF($N$106="snížená",$J$106,0) -> 0 | BG106: =IF($N$106="zákl. přenesená",$J$106,0) -> 0 | BH106: =IF($N$106="sníž. přenesená",$J$106,0) -> 0 | BI106: =IF($N$106="nulová",$J$106,0) -> 0 | BJ106: 1 | BK106: =ROUND($I$106*$H$106,2) -> 0 | BL106: 4 | BM106: 84313739
D107: PP | F107: Výztuž základových zdí nosných svislých nebo odkloněných od svislice, rovinných nebo oblých, deskových nebo žebrových, včetně výztuže jejich žeber z betonářské oceli 10 505 (R) nebo BSt 500 | AT107: PP | AU107: 2
D108: VV | F108: 2,99*0,01 | H108: 0.03 | AT108: VV | AU108: 2 | AV108: 2 | AW108: -1 | AX108: 1 | AY108: ROZPOCET
D109: D | E109: 3 | F109: Svislé a kompletní konstrukce | J109: =$BK$109 -> 0 | P109: =SUM($P$110:$P$113) -> 0 | R109: =SUM($R$110:$R$113) -> 0.124 | T109: =SUM($T$110:$T$113) -> 0 | AR109: 1 | AT109: D | AU109: 1 | AY109: ROZPOCET | BK109: =SUM($BK$110:$BK$113) -> 0
C110: 9 | D110: K | E110: 348278401 | F110: Plotová stříška 270x390 mm betonová | G110: kus | H110: 10 | J110: =ROUND($I$110*$H$110,2) -> 0 | K110: CS ÚRS 2015 02 | N110: základní | P110: =$O$110*$H$110 -> 0 | Q110: 0.0124 | R110: =$Q$110*$H$110 -> 0.124 | S110: 0 | T110: =$S$110*$H$110 -> 0 | AR110: 4 | AT110: K | AU110: 2 | AY110: ROZPOCET | BE110: =IF($N$110="základní",$J$110,0) -> 0 | BF110: =IF($N$110="snížená",$J$110,0) -> 0 | BG110: =IF($N$110="zákl. přenesená",$J$110,0) -> 0 | BH110: =IF($N$110="sníž. přenesená",$J$110,0) -> 0 | BI110: =IF($N$110="nulová",$J$110,0) -> 0 | BJ110: 1 | BK110: =ROUND($I$110*$H$110,2) -> 0 | BL110: 4 | BM110: 874046048
D111: PP | F111: Ploty z cihel a tvárnic nepálených vápenopískových (KM BETA) ukončovací prvky betonové na maltu cementovou stříška 270x390 mm | AT111: PP | AU111: 2
D112: VV | F112: 2,6/0,27 | H112: 9.63 | AT112: VV | AU112: 2 | AV112: 2 | AW112: -1 | AX112: 0 | AY112: ROZPOCET
D113: VV | F113: 10 | H113: 10 | AT113: VV | AU113: 2 | AV113: 2 | AW113: -1 | AX113: 1 | AY113: ROZPOCET
D114: D | E114: 4 | F114: Vodorovné konstrukce | J114: =$BK$114 -> 0 | P114: =SUM($P$115:$P$117) -> 0 | R114: =SUM($R$115:$R$117) -> 0.2057 | T114: =SUM($T$115:$T$117) -> 0 | AR114: 1 | AT114: D | AU114: 1 | AY114: ROZPOCET | BK114: =SUM($BK$115:$BK$117) -> 0
C115: 10 | D115: K | E115: 462511161 | F115: Zához z lomového kamene tříděného hmotnost kamenů do 80 kg bez výplně | G115: m3 | H115: 0.11 | J115: =ROUND($I$115*$H$115,2) -> 0 | K115: CS ÚRS 2015 02 | N115: základní | P115: =$O$115*$H$115 -> 0 | Q115: 1.87 | R115: =$Q$115*$H$115 -> 0.2057 | S115: 0 | T115: =$S$115*$H$115 -> 0 | AR115: 4 | AT115: K | AU115: 2 | AY115: ROZPOCET | BE115: =IF($N$115="základní",$J$115,0) -> 0 | BF115: =IF($N$115="snížená",$J$115,0) -> 0 | BG115: =IF($N$115="zákl. přenesená",$J$115,0) -> 0 | BH115: =IF($N$115="sníž. přenesená",$J$115,0) -> 0 | BI115: =IF($N$115="nulová",$J$115,0) -> 0 | BJ115: 1 | BK115: =ROUND($I$115*$H$115,2) -> 0 | BL115: 4 | BM115: 1039044199
D116: PP | F116: Zához z lomového kamene neupraveného provedený ze břehu nebo z lešení, do sucha nebo do vody tříděného, hmotnost jednotlivých kamenů do 80 kg bez výplně mezer | AT116: PP | AU116: 2
D117: VV | F117: 0,5*1,1*0,2 | H117: 0.11 | AT117: VV | AU117: 2 | AV117: 2 | AW117: -1 | AX117: 1 | AY117: ROZPOCET
D118: D | E118: 5 | F118: Komunikace pozemní | J118: =$BK$118 -> 0 | P118: =SUM($P$119:$P$126) -> 0 | R118: =SUM($R$119:$R$126) -> 2.5698 | T118: =SUM($T$119:$T$126) -> 0 | AR118: 1 | AT118: D | AU118: 1 | AY118: ROZPOCET | BK118: =SUM($BK$119:$BK$126) -> 0
C119: 11 | D119: K | E119: 564811111 | F119: Výsivka tl 50 mm | G119: m2 | H119: 4.2 | J119: =ROUND($I$119*$H$119,2) -> 0 | K119: CS ÚRS 2015 02 | N119: základní | P119: =$O$119*$H$119 -> 0 | Q119: 0 | R119: =$Q$119*$H$119 -> 0 | S119: 0 | T119: =$S$119*$H$119 -> 0 | AR119: 4 | AT119: K | AU119: 2 | AY119: ROZPOCET | BE119: =IF($N$119="základní",$J$119,0) -> 0 | BF119: =IF($N$119="snížená",$J$119,0) -> 0 | BG119: =IF($N$119="zákl. přenesená",$J$119,0) -> 0 | BH119: =IF($N$119="sníž. přenesená",$J$119,0) -> 0 | BI119: =IF($N$119="nulová",$J$119,0) -> 0 | BJ119: 1 | BK119: =ROUND($I$119*$H$119,2) -> 0 | BL119: 4 | BM119: -1358392648
D120: PP | F120: Podklad ze štěrkodrti ŠD s rozprostřením a zhutněním, po zhutnění tl. 50 mm | AT120: PP | AU120: 2
D121: VV | F121: 1,4*3 | H121: 4.2 | AT121: VV | AU121: 2 | AV121: 2 | AW121: -1 | AX121: 1 | AY121: ROZPOCET
C122: 12 | D122: K | E122: 564871116 | F122: Podklad ze štěrkodrtě ŠD tl. 300 mm | G122: m2 | H122: 4.2 | J122: =ROUND($I$122*$H$122,2) -> 0 | K122: CS ÚRS 2015 02 | N122: základní | P122: =$O$122*$H$122 -> 0 | Q122: 0 | R122: =$Q$122*$H$122 -> 0 | S122: 0 | T122: =$S$122*$H$122 -> 0 | AR122: 4 | AT122: K | AU122: 2 | AY122: ROZPOCET | BE122: =IF($N$122="základní",$J$122,0) -> 0 | BF122: =IF($N$122="snížená",$J$122,0) -> 0 | BG122: =IF($N$122="zákl. přenesená",$J$122,0) -> 0 | BH122: =IF($N$122="sníž. přenesená",$J$122,0) -> 0 | BI122: =IF($N$122="nulová",$J$122,0) -> 0 | BJ122: 1 | BK122: =ROUND($I$122*$H$122,2) -> 0 | BL122: 4 | BM122: -1714247139
D123: PP | F123: Podklad ze štěrkodrti ŠD s rozprostřením a zhutněním, po zhutnění tl. 300 mm | AT123: PP | AU123: 2
D124: VV | F124: 1,4*3 | H124: 4.2 | AT124: VV | AU124: 2 | AV124: 2 | AW124: -1 | AX124: 1 | AY124: ROZPOCET
C125: 13 | D125: K | E125: 597161111 | F125: Kamenná dlažba do lože z betonu tl 100 mm z lomového kamene | G125: m2 | H125: 3 | J125: =ROUND($I$125*$H$125,2) -> 0 | K125: CS ÚRS 2015 02 | N125: základní | P125: =$O$125*$H$125 -> 0 | Q125: 0.8566 | R125: =$Q$125*$H$125 -> 2.5698 | S125: 0 | T125: =$S$125*$H$125 -> 0 | AR125: 4 | AT125: K | AU125: 2 | AY125: ROZPOCET | BE125: =IF($N$125="základní",$J$125,0) -> 0 | BF125: =IF($N$125="snížená",$J$125,0) -> 0 | BG125: =IF($N$125="zákl. přenesená",$J$125,0) -> 0 | BH125: =IF($N$125="sníž. přenesená",$J$125,0) -> 0 | BI125: =IF($N$125="nulová",$J$125,0) -> 0 | BJ125: 1 | BK125: =ROUND($I$125*$H$125,2) -> 0 | BL125: 4 | BM125: 44054535
D126: PP | F126: Rigol dlážděný do lože z betonu prostého tl. 100 mm, s vyplněním a zatřením spár cementovou maltou z lomového kamene tl. do 250 mm | AT126: PP | AU126: 2
D127: D | E127: 9 | F127: Ostatní konstrukce a práce, bourání | J127: =$BK$127 -> 0 | P127: =SUM($P$128:$P$139) -> 0 | R127: =SUM($R$128:$R$139) -> 11.412507 | T127: =SUM($T$128:$T$139) -> 1.824 | AR127: 1 | AT127: D | AU127: 1 | AY127: ROZPOCET | BK127: =SUM($BK$128:$BK$139) -> 0
C128: 14 | D128: K | E128: 919441211 | F128: Čelo propustku z lomového kamene pro propustek z trub DN 300 až 500 | G128: kus | H128: 1 | J128: =ROUND($I$128*$H$128,2) -> 0 | K128: CS ÚRS 2015 02 | N128: základní | P128: =$O$128*$H$128 -> 0 | Q128: 7.00566 | R128: =$Q$128*$H$128 -> 7.00566 | S128: 0 | T128: =$S$128*$H$128 -> 0 | AR128: 4 | AT128: K | AU128: 2 | AY128: ROZPOCET | BE128: =IF($N$128="základní",$J$128,0) -> 0 | BF128: =IF($N$128="snížená",$J$128,0) -> 0 | BG128: =IF($N$128="zákl. přenesená",$J$128,0) -> 0 | BH128: =IF($N$128="sníž. přenesená",$J$128,0) -> 0 | BI128: =IF($N$128="nulová",$J$128,0) -> 0 | BJ128: 1 | BK128: =ROUND($I$128*$H$128,2) -> 0 | BL128: 4 | BM128: -129992983
D129: PP | F129: Čelo propustku ze zdiva z lomového kamene, pro propustek z trub DN 300 až 500 mm | AT129: PP | AU129: 2
C130: 15 | D130: K | E130: 919535555 | F130: Obetonování trubního propustku betonem prostým | G130: m3 | H130: 1.9 | J130: =ROUND($I$130*$H$130,2) -> 0 | K130: CS ÚRS 2015 02 | N130: základní | P130: =$O$130*$H$130 -> 0 | Q130: 2.26672 | R130: =$Q$130*$H$130 -> 4.306768 | S130: 0 | T130: =$S$130*$H$130 -> 0 | AR130: 4 | AT130: K | AU130: 2 | AY130: ROZPOCET | BE130: =IF($N$130="základní",$J$130,0) -> 0 | BF130: =IF($N$130="snížená",$J$130,0) -> 0 | BG130: =IF($N$130="zákl. přenesená",$J$130,0) -> 0 | BH130: =IF($N$130="sníž. přenesená",$J$130,0) -> 0 | BI130: =IF($N$130="nulová",$J$130,0) -> 0 | BJ130: 1 | BK130: =ROUND($I$130*$H$130,2) -> 0 | BL130: 4 | BM130: -1746991925
D131: PP | F131: Obetonování trubního propustku betonem prostým tř. C 12/15 | AT131: PP | AU131: 2
...
