Workbook

Sheet Rekapitulace stavby
A1: Export VZ | D1: List obsahuje: | K1: 1) Rekapitulace stavby | W1: 2) Rekapitulace objektů stavby a soupisů prací | BA1: 3.0 | BB1: ZAMOK | BT1: False | BU1: False | BV1: {7D584258-E177-439F-B4CA-EA5D9E603D57}
BS2: 0,01 | BT2: 21
BS3: 0,01 | BT3: 15
D4: REKAPITULACE STAVBY | AS4: v --- níže se nacházejí doplnkové a pomocné údaje k sestavám --- v | BE4: Návod na vyplnění | BS4: 0,001
D5: Kód: | K5: 26_2016K | BE5: Měnit lze pouze buňky se žlutým podbarvením! 1) v Rekapitulaci stavby vyplňte údaje o Uchazeči (přenesou se do ostatních sestav i v jiných listech) 2) na vybraných listech vyplňte v sestavě Soupis prací ceny u položek Podrobnosti k vyplnění naleznete na poslední záložce s Pokyny pro vyplnění | BS5: 0,01
D6: Stavba: | K6: OPRAVA PROPUSTKU | BS6: 0,1
D7: KSO: | AK7: CC-CZ: | BS7: 1
D8: Místo: | K8: ve Žďáru u Staré Paky | AK8: Datum: | AN8: 07.01.2016 | BS8: 10
BS9: 100
D10: Zadavatel: | AK10: IČ: | BS10: 0,1
E11: OBEC LEVÍNSKÁ OLEŠNICE, Levínská Olešnice 94 | AK11: DIČ: | BS11: 0,1
BS12: 0,1
D13: Uchazeč: | AK13: IČ: | AN13: Vyplň údaj | BS13: 0,1
E14: Vyplň údaj | AK14: DIČ: | AN14: Vyplň údaj | BS14: 0,1
BS15: False
D16: Projektant: | AK16: IČ: | AN16: 867 25 521 | BS16: False
E17: Ing. Jan KORDA, ČKAIT 0501076 | AK17: DIČ: | BS17: True
BS18: 0,01
D19: Poznámka: | BS19: 0,01
BS20: False
D23: Cena bez DPH | AK23: =ROUND($AG$51,2) -> 0
L25: Sazba daně | W25: Základ daně | AK25: Výše daně
D26: DPH | F26: základní | L26: 0.21 | W26: =ROUND($AZ$51,2) -> 0 | AK26: =ROUND($AV$51,2) -> 0
F27: snížená | L27: 0.15 | W27: =ROUND($BA$51,2) -> 0 | AK27: =ROUND($AW$51,2) -> 0
F28: zákl. přenesená | L28: 0.21 | W28: =ROUND($BB$51,2) -> 0 | AK28: 0
F29: sníž. přenesená | L29: 0.15 | W29: =ROUND($BC$51,2) -> 0 | AK29: 0
F30: nulová | L30: 0 | W30: =ROUND($BD$51,2) -> 0 | AK30: 0
D32: Cena s DPH | T32: v | X32: CZK | AK32: =SUM($AK$23:$AK$30) -> 0
C39: REKAPITULACE OBJEKTŮ STAVBY A SOUPISŮ PRACÍ
C41: Kód: | L41: =$K$5 -> 26_2016K
C42: Stavba: | L42: =$K$6 -> OPRAVA PROPUSTKU
C44: Místo: | L44: =IF($K$8="","",$K$8) -> ve Žďáru u Staré Paky | AI44: Datum: | AM44: =IF($AN$8="","",$AN$8) -> 07.01.2016
C46: Zadavatel: | L46: =IF($E$11="","",$E$11) -> OBEC LEVÍNSKÁ OLEŠNICE, Levínská Olešnice 94 | AI46: Projektant: | AM46: =IF($E$17="","",$E$17) -> Ing. Jan KORDA, ČKAIT 0501076 | AS46: Informatívní údaje z listů zakázek
C47: Uchazeč: | L47: =IF($E$14="Vyplň údaj","",$E$14)
C49: Kód | I49: Objekt, Soupis prací | AG49: Cena bez DPH [CZK] | AN49: Cena s DPH [CZK] | AQ49: Typ | AS49: z toho Ostat. náklady [CZK] | AT49: DPH [CZK] | AU49: Normohodiny [h] | AV49: DPH základní [CZK] | AW49: DPH snížená [CZK] | AX49: DPH základní přenesená [CZK] | AY49: DPH snížená přenesená [CZK] | AZ49: Základna DPH základní | BA49: Základna DPH snížená | BB49: Základna DPH zákl. přenesená | BC49: Základna DPH sníž. přenesená | BD49: Základna DPH nulová
C51: Náklady stavby celkem | AG51: =ROUND($AG$52,2) -> 0 | AN51: =SUM($AG$51,$AT$51) -> 0 | AS51: =ROUND($AS$52,2) -> 0 | AT51: =ROUND(SUM($AV$51:$AW$51),2) -> 0 | AU51: =ROUND($AU$52,5) -> 0 | AV51: =ROUND($AZ$51*$L$26,2) -> 0 | AW51: =ROUND($BA$51*$L$27,2) -> 0 | AX51: =ROUND($BB$51*$L$26,2) -> 0 | AY51: =ROUND($BC$51*$L$27,2) -> 0 | AZ51: =ROUND($AZ$52,2) -> 0 | BA51: =ROUND($BA$52,2) -> 0 | BB51: =ROUND($BB$52,2) -> 0 | BC51: =ROUND($BC$52,2) -> 0 | BD51: =ROUND($BD$52,2) -> 0 | BS51: D | BT51: 0 | BV51: IMPORT | BW51: {7D584258-E177-439F-B4CA-EA5D9E603D57} | BX51: {00000000-0000-0000-0000-000000000000}
A52: / | D52: 26_2016K | J52: OPRAVA PROPUSTKU | AG52: ='26_2016K - OPRAVA PROPUSTKU'!$J$25 -> 0 | AN52: =SUM($AG$52,$AT$52) -> 0 | AQ52: STA | AS52: 0 | AT52: =ROUND(SUM($AV$52:$AW$52),2) -> 0 | AU52: ='26_2016K - OPRAVA PROPUSTKU'!$P$82 -> 0 | AV52: ='26_2016K - OPRAVA PROPUSTKU'!$J$28 -> 0 | AW52: ='26_2016K - OPRAVA PROPUSTKU'!$J$29 -> 0 | AX52: ='26_2016K - OPRAVA PROPUSTKU'!$J$30 -> 0 | AY52: ='26_2016K - OPRAVA PROPUSTKU'!$J$31 -> 0 | AZ52: ='26_2016K - OPRAVA PROPUSTKU'!$F$28 -> 0 | BA52: ='26_2016K - OPRAVA PROPUSTKU'!$F$29 -> 0 | BB52: ='26_2016K - OPRAVA PROPUSTKU'!$F$30 -> 0 | BC52: ='26_2016K - OPRAVA PROPUSTKU'!$F$31 -> 0 | BD52: ='26_2016K - OPRAVA PROPUSTKU'!$F$32 -> 0 | BT52: 1 | BU52: ###NOINSERT### | BV52: IMPORT | BW52: {7D584258-E177-439F-B4CA-EA5D9E603D57} | BX52: {00000000-0000-0000-0000-000000000000}

Sheet 26_2016K - OPRAVA PROPUSTKU
D1: List obsahuje: | F1: 1) Krycí list soupisu | G1: 2) Rekapitulace | J1: 3) Soupis prací | K1: Zpět na list: | L1: Rekapitulace stavby
AT2: {7D584258-E177-439F-B4CA-EA5D9E603D57}
AT3: 2
D4: KRYCÍ LIST SOUPISU | M4: v --- níže se nacházejí doplnkové a pomocné údaje k sestavám --- v | AT4: False
D6: Stavba:
E7: OPRAVA PROPUSTKU
D9: KSO: | I9: CC-CZ:
D10: Místo: | F10: ve Žďáru u Staré Paky | I10: Datum: | J10: ='Rekapitulace stavby'!$AN$8 -> 07.01.2016
D12: Zadavatel: | I12: IČ:
E13: OBEC LEVÍNSKÁ OLEŠNICE, Levínská Olešnice 94 | I13: DIČ:
D15: Uchazeč: | I15: IČ: | J15: =IF('Rekapitulace stavby'!$AN$13="Vyplň údaj","",IF('Rekapitulace stavby'!$AN$13="","",'Rekapitulace stavby'!$AN$13))
E16: =IF('Rekapitulace stavby'!$E$14="Vyplň údaj","",IF('Rekapitulace stavby'!$E$14="","",'Rekapitulace stavby'!$E$14)) | I16: DIČ: | J16: =IF('Rekapitulace stavby'!$AN$14="Vyplň údaj","",IF('Rekapitulace stavby'!$AN$14="","",'Rekapitulace stavby'!$AN$14))
D18: Projektant: | I18: IČ: | J18: 867 25 521
E19: Ing. Jan KORDA, ČKAIT 0501076 | I19: DIČ:
D21: Poznámka:
D25: Cena bez DPH | J25: =ROUND($J$82,2) -> 0
F27: Základ daně | I27: Sazba daně | J27: Výše daně
D28: DPH | E28: základní | F28: =ROUND(SUM($BE$82:$BE$159),2) -> 0 | I28: 0.21 | J28: =ROUND(ROUND((SUM($BE$82:$BE$159)),2)*$I$28,2) -> 0
E29: snížená | F29: =ROUND(SUM($BF$82:$BF$159),2) -> 0 | I29: 0.15 | J29: =ROUND(ROUND((SUM($BF$82:$BF$159)),2)*$I$29,2) -> 0
E30: zákl. přenesená | F30: =ROUND(SUM($BG$82:$BG$159),2) -> 0 | I30: 0.21 | J30: 0
E31: sníž. přenesená | F31: =ROUND(SUM($BH$82:$BH$159),2) -> 0 | I31: 0.15 | J31: 0
E32: nulová | F32: =ROUND(SUM($BI$82:$BI$159),2) -> 0 | I32: 0 | J32: 0
D34: Cena s DPH | G34: v | H34: CZK | J34: =SUM($J$25:$J$32) -> 0
C40: REKAPITULACE ČLENĚNÍ SOUPISU PRACÍ
C42: Stavba:
E43: =$E$7 -> OPRAVA PROPUSTKU
C45: Místo: | F45: =$F$10 -> ve Žďáru u Staré Paky | I45: Datum: | J45: =IF($J$10="","",$J$10) -> 07.01.2016
C47: Zadavatel: | F47: =$E$13 -> OBEC LEVÍNSKÁ OLEŠNICE, Levínská Olešnice 94 | I47: Projektant: | J47: =$E$19 -> Ing. Jan KORDA, ČKAIT 0501076
C48: Uchazeč: | F48: =IF($E$16="","",$E$16)
C50: Kód dílu - Popis | J50: Cena celkem [CZK]
C52: Náklady soupisu celkem | J52: =$J$82 -> 0 | AU52: -1
D53: HSV - Práce a dodávky HSV | J53: =$J$83 -> 0
D54: 1 - Zemní práce | J54: =$J$84 -> 0
D55: 2 - Zakládání | J55: =$J$90 -> 0
D56: 3 - Svislé a kompletní konstrukce | J56: =$J$109 -> 0
D57: 4 - Vodorovné konstrukce | J57: =$J$114 -> 0
D58: 5 - Komunikace pozemní | J58: =$J$118 -> 0
D59: 9 - Ostatní konstrukce a práce, bourání | J59: =$J$127 -> 0
D60: 997 - Přesun sutě | J60: =$J$140 -> 0
D61: 998 - Přesun hmot | J61: =$J$150 -> 0
...
